BEGIN:VCALENDAR
VERSION:2.0
PRODID:-//JAMI - Junta Administrativa de Missões - ECPv6.15.19//NONSGML v1.0//EN
CALSCALE:GREGORIAN
METHOD:PUBLISH
X-ORIGINAL-URL:https://jami.com.br
X-WR-CALDESC:Eventos para JAMI - Junta Administrativa de Missões
REFRESH-INTERVAL;VALUE=DURATION:PT1H
X-Robots-Tag:noindex
X-PUBLISHED-TTL:PT1H
BEGIN:VTIMEZONE
TZID:America/Sao_Paulo
BEGIN:STANDARD
TZOFFSETFROM:-0300
TZOFFSETTO:-0300
TZNAME:-03
DTSTART:20240101T000000
END:STANDARD
END:VTIMEZONE
BEGIN:VEVENT
DTSTART;VALUE=DATE:20250619
DTEND;VALUE=DATE:20250622
DTSTAMP:20260419T232649
CREATED:20241204T145527Z
LAST-MODIFIED:20241204T145527Z
UID:2663-1750291200-1750550399@jami.com.br
SUMMARY:Consulta de Missão da JAMI
DESCRIPTION:19 – 21 – Consulta de Missão da JAMI (Corpus Christi)
URL:https://jami.com.br/evento/consulta-de-missao-da-jami/
LOCATION:Base da JAMI / Cetrami\, Rua Alecrim\, 100\, Belo Horizonte\, MG\, CEP 31748-445\, Brasil
CATEGORIES:JAMI
ATTACH;FMTTYPE=image/png:https://jami.com.br/wp-content/uploads/2024/02/cropped-Favicon-Jami.png
ORGANIZER;CN="JAMI - Junta Administrativa de Miss%C3%B5es":MAILTO:jami@jami.com.br
END:VEVENT
END:VCALENDAR